BEGIN:VCALENDAR
VERSION:2.0
PRODID:-//Library Market//iCal Export//EN
BEGIN:VEVENT
SUMMARY:Beginner Sewing Machine Class
UID:10107
DTSTAMP:20260423T033200Z
DTSTART:20250604T223000Z
DTEND:20250605T003000Z
LOCATION:Byron Public Library District, 100 S Washington St., Byron, IL 61
 010, United States
ROOM: Creative Studio
DESCRIPTION:Learn how to thread a sewing machine, wind a bobbin and practi
 ce sewing. This class utilizes the sewing machines in the Creative Studio 
 at the Byron Public Library. Please do not bring your own sewing machine.Â
  
URL:https://www.byronlibrary.org/event/beginner-sewing-10107
END:VEVENT
END:VCALENDAR
