BEGIN:VCALENDAR
VERSION:2.0
PRODID:-//Library Market//iCal Export//EN
BEGIN:VEVENT
SUMMARY:Plant Lovers Bingo
UID:10108
DTSTAMP:20260423T033400Z
DTSTART:20250625T230000Z
DTEND:20250626T000000Z
LOCATION:Byron Public Library District, 100 S Washington St., Byron, IL 61
 010, United States
ROOM: Creative Studio
DESCRIPTION:Are you a plant lover? Join other plant enthusiasts celebratin
 g all things green and leafy. Participants will play Plant Lover Bingo for
  a chance to win exciting plant-themed prizes. Come join the fun! 
URL:https://www.byronlibrary.org/event/plant-lover-bingo-10108
END:VEVENT
END:VCALENDAR
