BEGIN:VCALENDAR
VERSION:2.0
PRODID:-//Library Market//iCal Export//EN
BEGIN:VEVENT
SUMMARY:Wednesday Night Readers
UID:10113
DTSTAMP:20260423T033100Z
DTSTART:20250618T233000Z
DTEND:20250619T003000Z
LOCATION:Byron Public Library District, 100 S Washington St., Byron, IL 61
 010, United States
ROOM: Classroom 1
DESCRIPTION:Celebrating her forty-fifth birthday at her local pub, popular
  podcaster Alix Summers crosses paths with an unassuming woman called Josi
 e Fair. Josie, it turns out, is also celebrating her forty-fifth birthday.
  They are, in fact, birthday twins. A few days later, Alix and Josie bump
  into each other again, this time outside Alix&#039;s children&#039;s scho
 ol. Josie has been listening to Alix&#039;s podcasts and thinks she might 
 be an interesting subject for her series. She is, she tells Alix, on the c
 usp of great changes in her life.Josie&#039;s life appears to be strange a
 nd complicated, and although Alix finds her unsettling, she can&#039;t qui
 te resist the temptation to keep making the podcast. Slowly she starts to 
 realize that Josie has been hiding some very dark secrets, and before she 
 knows it, Josie has inveigled her way into Alix&#039;s life - and into her
  home. But, as quickly as she arrived, Josie disappears. Only then does A
 lix discover that Josie has left a terrible and terrifying legacy in her w
 ake, and that Alix has become the subject of her on true crime podcast, wi
 th her life and her family&#039;s lives under mortal threat. Who is Josie
  Fair? And what has she done?
URL:https://www.byronlibrary.org/event/wednesday-night-readers-10113
END:VEVENT
END:VCALENDAR
