BEGIN:VCALENDAR
VERSION:2.0
PRODID:-//Library Market//iCal Export//EN
BEGIN:VEVENT
SUMMARY:Miniature Nature Scene Magnet
UID:10114
DTSTAMP:20260423T033300Z
DTSTART:20250612T230000Z
DTEND:20250613T000000Z
LOCATION:Byron Public Library District, 100 S Washington St., Byron, IL 61
 010, United States
ROOM: Creative Studio
DESCRIPTION:Bring a touch of the outdoors inside by crafting a charming mi
 niature nature scene inside of a magnetic tin-perfect for brightening up y
 our space or gifting to a nature enthusiast. 
URL:https://www.byronlibrary.org/event/acorn-bird-nest-craft-10114
END:VEVENT
END:VCALENDAR
