BEGIN:VCALENDAR
VERSION:2.0
PRODID:-//Library Market//iCal Export//EN
BEGIN:VEVENT
SUMMARY:Coastal Candle Kit
UID:10115
DTSTAMP:20260423T033300Z
DTSTART:20250613T140000Z
DTEND:20250613T220000Z
LOCATION:Byron Public Library District, 100 S Washington St., Byron, IL 61
 010, United States
ROOM: Coastal Candle Kit
DESCRIPTION:A reminder of a favorite trip or if you simply love that coast
 al feel, bring some of the beach vibe into your home with our Coastal Cand
 le kit! This kit includes all you need! NO REGISTRATION REQUIRED! Kits wil
 l be on a first come, first serve basis! 
URL:https://www.byronlibrary.org/event/coastal-candle-kit-10115
END:VEVENT
END:VCALENDAR
