BEGIN:VCALENDAR
VERSION:2.0
PRODID:-//Library Market//iCal Export//EN
BEGIN:VEVENT
SUMMARY:Birthday Gift Set
UID:10117
DTSTAMP:20260423T033200Z
DTSTART:20250603T223000Z
DTEND:20250604T003000Z
LOCATION:Byron Public Library District, 100 S Washington St., Byron, IL 61
 010, United States
ROOM: Creative Studio
DESCRIPTION:In this program, you will make a gift set perfect for a birthd
 ay. You&#039;ll make a birthday candle gift box, a fancy fold 3-panel card
 , and a pop-up gift card holder. 
URL:https://www.byronlibrary.org/event/birthday-gift-set-10117
END:VEVENT
END:VCALENDAR
