BEGIN:VCALENDAR
VERSION:2.0
PRODID:-//Library Market//iCal Export//EN
BEGIN:VEVENT
SUMMARY:Pool Noodle Sculpture Kit
UID:10148
DTSTAMP:20260423T033500Z
DTSTART:20250729T140000Z
DTEND:20250730T010000Z
LOCATION:Byron Public Library District, 100 S Washington St., Byron, IL 61
 010, United States
ROOM: Pool Noodle Sculpture Kit
DESCRIPTION:Create with pool noodles, wire &amp; beads. Take it apart &amp
 ; make it again. For ages 3 years-entering Kindergarten. Pick up begins: T
 uesday, July 29.
URL:https://www.byronlibrary.org/event/youth-take-home-kits-all-ages-10148
END:VEVENT
END:VCALENDAR
