BEGIN:VCALENDAR
VERSION:2.0
PRODID:-//Library Market//iCal Export//EN
BEGIN:VEVENT
SUMMARY:Preschool Art Studio Storytime-Wednesday
UID:10153
DTSTAMP:20260423T033200Z
DTSTART:20250611T143000Z
DTEND:20250611T153000Z
LOCATION:Byron Public Library District, 100 S Washington St., Byron, IL 61
 010, United States
ROOM: Activity Room
DESCRIPTION:Stories, songs and movement, followed by an art project and pl
 aytime. For ages 3 years-entering K. Children attend without an adult. If 
 your child needs extra support, please contact Julie.
URL:https://www.byronlibrary.org/event/preschool-art-studio-storytime-wedn
 esday-10153
END:VEVENT
END:VCALENDAR
