BEGIN:VCALENDAR
VERSION:2.0
PRODID:-//Library Market//iCal Export//EN
BEGIN:VEVENT
SUMMARY:Sandtastic Storytime-Wednesday
UID:10155
DTSTAMP:20260423T033400Z
DTSTART:20250618T143000Z
DTEND:20250618T153000Z
LOCATION:Byron Public Library District, 100 S Washington St., Byron, IL 61
 010, United States
ROOM: Activity Room
DESCRIPTION:Stories, songs and movement, followed by kinetic sand play and
  toytime. For ages 3 years-entering K. Children attend without an adult. I
 f your child needs extra support, please contact Julie.
URL:https://www.byronlibrary.org/event/sandtastic-storytime-wednesday-1015
 5
END:VEVENT
END:VCALENDAR
