BEGIN:VCALENDAR
VERSION:2.0
PRODID:-//Library Market//iCal Export//EN
BEGIN:VEVENT
SUMMARY:Grade School Art Studio-Wednesday
UID:10159
DTSTAMP:20260423T033400Z
DTSTART:20250604T160000Z
DTEND:20250604T170000Z
LOCATION:Byron Public Library District, 100 S Washington St., Byron, IL 61
 010, United States
ROOM: Activity Room
DESCRIPTION:Open art studio just for grade schoolers. Pick out your suppli
 es and get creative! For youth entering 1st-5th grade in fall 2025. Youth 
 attend without an adult. If you child needs extra support, please contact 
 Julie.
URL:https://www.byronlibrary.org/event/grade-school-art-studio-wednesday-1
 0159
END:VEVENT
END:VCALENDAR
