BEGIN:VCALENDAR
VERSION:2.0
PRODID:-//Library Market//iCal Export//EN
BEGIN:VEVENT
SUMMARY:Slime Time-Thursday
UID:10162
DTSTAMP:20260423T033400Z
DTSTART:20250612T160000Z
DTEND:20250612T170000Z
LOCATION:Byron Public Library District, 100 S Washington St., Byron, IL 61
 010, United States
ROOM: Activity Room
DESCRIPTION:Make slime! For youth entering 1st-5th grade in fall 2025. You
 th attend without an adult. If you child needs extra support, please conta
 ct Julie.
URL:https://www.byronlibrary.org/event/slime-time-thursday-10162
END:VEVENT
END:VCALENDAR
