BEGIN:VCALENDAR
VERSION:2.0
PRODID:-//Library Market//iCal Export//EN
BEGIN:VEVENT
SUMMARY:Lego Glasses-Wednesday
UID:10163
DTSTAMP:20260423T033400Z
DTSTART:20250618T160000Z
DTEND:20250618T164500Z
LOCATION:Byron Public Library District, 100 S Washington St., Byron, IL 61
 010, United States
ROOM: Meeting Room
DESCRIPTION:Create on Lego Glasses. Take home your glasses with attached l
 egos.  For youth entering 1st-5th grade in fall 2025. Youth attend withou
 t an adult. If you child needs extra support, please contact Julie.
URL:https://www.byronlibrary.org/event/lego-glasses-wednesday-10163
END:VEVENT
END:VCALENDAR
