BEGIN:VCALENDAR
VERSION:2.0
PRODID:-//Library Market//iCal Export//EN
BEGIN:VEVENT
SUMMARY:Chip Taste Test-Wednesday
UID:10165
DTSTAMP:20260423T033400Z
DTSTART:20250625T160000Z
DTEND:20250625T164500Z
LOCATION:Byron Public Library District, 100 S Washington St., Byron, IL 61
 010, United States
ROOM: Meeting Room
DESCRIPTION:Taste some chips and guess the flavor. Rank you favorites. For
  youth entering 1st-5th grade in fall 2025. Youth attend without an adult.
  If you child needs extra support, please contact Julie.
URL:https://www.byronlibrary.org/event/chip-taste-test-wednesday-10165
END:VEVENT
END:VCALENDAR
