BEGIN:VCALENDAR
VERSION:2.0
PRODID:-//Library Market//iCal Export//EN
BEGIN:VEVENT
SUMMARY:Turtle Pond Art Kit
UID:10167
DTSTAMP:20260423T033400Z
DTSTART:20250620T140000Z
DTEND:20250620T220000Z
LOCATION:Byron Public Library District, 100 S Washington St., Byron, IL 61
 010, United States
ROOM: Turtle Pond Art Kit
DESCRIPTION:Create two turtles and a pond habitat for them. This kit is fo
 r youth entering grades 1-5 in fall 2025. Pick up begins: Friday, June 20.
  
URL:https://www.byronlibrary.org/event/turtle-pond-art-kit-10167
END:VEVENT
END:VCALENDAR
