BEGIN:VCALENDAR
VERSION:2.0
PRODID:-//Library Market//iCal Export//EN
BEGIN:VEVENT
SUMMARY:Princess or Knight Create &amp; Play Kit
UID:10168
DTSTAMP:20260423T033300Z
DTSTART:20250620T140000Z
DTEND:20250620T220000Z
LOCATION:Byron Public Library District, 100 S Washington St., Byron, IL 61
 010, United States
ROOM: Princess or Knight Create &amp; Play Kit
DESCRIPTION:Princess kit: Make a crown &amp; wand. Knight kit: Decorate a 
 sword &amp; shield. Then have fun playing! For youth ages 3 years-entering
  K (fall 2025). Pick up beginning: Friday, June 20. 
URL:https://www.byronlibrary.org/event/princess-or-knight-create-play-kit-
 10168
END:VEVENT
END:VCALENDAR
