BEGIN:VCALENDAR
VERSION:2.0
PRODID:-//Library Market//iCal Export//EN
BEGIN:VEVENT
SUMMARY:Busy Bag for Ones Kit
UID:10169
DTSTAMP:20260423T033200Z
DTSTART:20250620T140000Z
DTEND:20250620T220000Z
LOCATION:Byron Public Library District, 100 S Washington St., Byron, IL 61
 010, United States
ROOM: Busy Bag for Ones Kit
DESCRIPTION:Busy bags are exploratory activities. Great for home and will 
 also fit in your diaper bag for entertainment on the go! This kit is for c
 hildren ages 12-23 months on June 20. If your child will be 24 months by t
 hat date, please register for the Busy Bag for Twos kits.
URL:https://www.byronlibrary.org/event/busy-bag-ones-10169
END:VEVENT
END:VCALENDAR
