BEGIN:VCALENDAR
VERSION:2.0
PRODID:-//Library Market//iCal Export//EN
BEGIN:VEVENT
SUMMARY:Busy Bag for Twos Kit
UID:10170
DTSTAMP:20260423T033200Z
DTSTART:20250620T140000Z
DTEND:20250620T220000Z
LOCATION:Byron Public Library District, 100 S Washington St., Byron, IL 61
 010, United States
ROOM: Busy Bag for Twos Kit
DESCRIPTION:Busy bags are exploratory activities. Great for home and will 
 also fit in your diaper bag for entertainment on the go! This kit is for c
 hildren ages 24-35 months on June 20. If your child is 12-23 months, pleas
 e register for the Busy Bag for Ones kit.
URL:https://www.byronlibrary.org/event/busy-bag-twos-kit-10170
END:VEVENT
END:VCALENDAR
