BEGIN:VCALENDAR
VERSION:2.0
PRODID:-//Library Market//iCal Export//EN
BEGIN:VEVENT
SUMMARY:Teen Paint &amp; Sip
UID:10209
DTSTAMP:20260423T033600Z
DTSTART:20250605T230000Z
DTEND:20250606T000000Z
LOCATION:Byron Public Library District, 100 S Washington St., Byron, IL 61
 010, United States
ROOM: Creative Studio
DESCRIPTION:Let&#039;s paint some mini-canvases while sipping Bubble Tea!Â
  
URL:https://www.byronlibrary.org/event/teen-paint-sip-10209
END:VEVENT
END:VCALENDAR
