BEGIN:VCALENDAR
VERSION:2.0
PRODID:-//Library Market//iCal Export//EN
BEGIN:VEVENT
SUMMARY:Beginners Sewing Class for Teens
UID:10210
DTSTAMP:20260423T033700Z
DTSTART:20250616T190000Z
DTEND:20250616T203000Z
LOCATION:Byron Public Library District, 100 S Washington St., Byron, IL 61
 010, United States
ROOM: Classroom 2
DESCRIPTION:Learn the basics of using a sewing machine. Machines and mater
 ials will be provided and you will go home with a finished project! This b
 eginner class will be a prerequisite in future advanced sewing classes.
URL:https://www.byronlibrary.org/event/beginners-sewing-class-teens-10210
END:VEVENT
END:VCALENDAR
