BEGIN:VCALENDAR
VERSION:2.0
PRODID:-//Library Market//iCal Export//EN
BEGIN:VEVENT
SUMMARY:Book Art: Hedgehog
UID:10223
DTSTAMP:20260423T033600Z
DTSTART:20250708T223000Z
DTEND:20250709T003000Z
LOCATION:Byron Public Library District, 100 S Washington St., Byron, IL 61
 010, United States
ROOM: Creative Studio
DESCRIPTION:You&#039;ll learn how to fold pages of a used book to make an 
 adorable book hedgehog. You can also embellish your hedgehog when finished
 . All supplies will be provided. 
URL:https://www.byronlibrary.org/event/book-hedgehog-10223
END:VEVENT
END:VCALENDAR
