BEGIN:VCALENDAR
VERSION:2.0
PRODID:-//Library Market//iCal Export//EN
BEGIN:VEVENT
SUMMARY:Teen Tie Dye
UID:10257
DTSTAMP:20260423T033500Z
DTSTART:20250626T213000Z
DTEND:20250626T223000Z
LOCATION:Byron Public Library District, 100 S Washington St., Byron, IL 61
 010, United States
ROOM: Creative Studio
DESCRIPTION:Make a tie-dye shirt for the summer! We will provide a free t-
 shirt, so make sure you list the adult-size shirt you would like. 
URL:https://www.byronlibrary.org/event/teen-tie-dye-10257
END:VEVENT
END:VCALENDAR
