BEGIN:VCALENDAR
VERSION:2.0
PRODID:-//Library Market//iCal Export//EN
BEGIN:VEVENT
SUMMARY:Teen Movie &amp; Pizza
UID:10258
DTSTAMP:20260423T033700Z
DTSTART:20250630T190000Z
DTEND:20250630T210000Z
LOCATION:Byron Public Library District, 100 S Washington St., Byron, IL 61
 010, United States
ROOM: Teen Department
DESCRIPTION:Join us for a movie &amp; pizza! We will have a variety of Dis
 ney movies you can pick from, and whichever movie gets the most votes, wil
 l be the one we watch together! 
URL:https://www.byronlibrary.org/event/teen-movie-pizza-10258
END:VEVENT
END:VCALENDAR
