BEGIN:VCALENDAR
VERSION:2.0
PRODID:-//Library Market//iCal Export//EN
BEGIN:VEVENT
SUMMARY:Teen Dungeons &amp; Dragons
UID:10260
DTSTAMP:20260423T033800Z
DTSTART:20250611T190000Z
DTEND:20250611T210000Z
LOCATION:Byron Public Library District, 100 S Washington St., Byron, IL 61
 010, United States
ROOM: Classroom 2
DESCRIPTION:Join our summer D&amp;D group, which is open to new and experi
 enced players! The two Dungeon Masters alternate weeks, so it would be bes
 t to pick one D&amp;D campaign and come every other week, so you stay with
  one DM and epic journey! Adam- 6/4, 6/18, 7/9, 7/23, 8/6Jacob- 6/11, 6/2
 5, 7/16, 7/30
URL:https://www.byronlibrary.org/event/teen-dd-10260
END:VEVENT
END:VCALENDAR
