BEGIN:VCALENDAR
VERSION:2.0
PRODID:-//Library Market//iCal Export//EN
BEGIN:VEVENT
SUMMARY:Movie Showing: Top Gun - Maverick
UID:10287
DTSTAMP:20260423T033400Z
DTSTART:20250701T180000Z
DTEND:20250701T200000Z
LOCATION:Byron Public Library District, 100 S Washington St., Byron, IL 61
 010, United States
ROOM: Meeting Room
DESCRIPTION:After more than thirty years of service as a top naval aviator
 , Pete &quot;Maverick&quot; Mitchell (Tom Cruise) is where he belongs, pus
 hing the envelope as a courageous test pilot. Yet, Maverick must confront 
 the ghosts of his past when he returns to TOPGUN to train a group of elite
  graduates and comes face to face with Lt. Bradshaw (Miles Teller), the so
 n of his former wingman &quot;Goose.&quot; Bitter rivalries ignite as the 
 pilots prepare for a specialized mission which will require the ultimate s
 acrifice from those chosen to fly it. Popcorn will be served during the m
 ovie. Rated PG-13.
URL:https://www.byronlibrary.org/event/movie-showing-top-gun-maverick-1028
 7
END:VEVENT
END:VCALENDAR
