BEGIN:VCALENDAR
VERSION:2.0
PRODID:-//Library Market//iCal Export//EN
BEGIN:VEVENT
SUMMARY:Summer Challenge
UID:10301
DTSTAMP:20260423T033200Z
DTSTART:20250527T050000Z
DTEND:20250724T050000Z
LOCATION:Byron Public Library District, 100 S Washington St., Byron, IL 61
 010, United States
ROOM: Summer Challenge
DESCRIPTION:Partcipate in our summer challenge! Youth &amp; teens can read
  books and/or complete activitities to a participate! Register at byron.be
 anstack.org or with the Beanstack app. 
URL:https://www.byronlibrary.org/event/summer-challenge-all-ages-10301
END:VEVENT
END:VCALENDAR
