BEGIN:VCALENDAR
VERSION:2.0
PRODID:-//Library Market//iCal Export//EN
BEGIN:VEVENT
SUMMARY:Read to a Dog
UID:10305
DTSTAMP:20260423T033700Z
DTSTART:20250610T163000Z
DTEND:20250610T170000Z
LOCATION:Byron Public Library District, 100 S Washington St., Byron, IL 61
 010, United States
ROOM: Porch
DESCRIPTION:Spend time reading to a certified therapy dog! The patient, no
 n judgmental attention of a dog helps readers gain confidence and improve 
 reading skills. Children attend this program without an adult; your child 
 should feel comfortable around dogs. This program is listed as 30 minutes 
 long, but you will receive a 10-15 minutes time slot when you arrive at th
 e library on the day of the program.
URL:https://www.byronlibrary.org/event/read-dog-10305
END:VEVENT
END:VCALENDAR
