BEGIN:VCALENDAR
VERSION:2.0
PRODID:-//Library Market//iCal Export//EN
BEGIN:VEVENT
SUMMARY:Crossroads Blues Society Presents: Wheatbread Johnson
UID:10357
DTSTAMP:20260423T033200Z
DTSTART:20250710T180000Z
DTEND:20250710T200000Z
LOCATION:Byron Public Library District, 100 S Washington St., Byron, IL 61
 010, United States
ROOM: Meeting Room
DESCRIPTION:Kick back and enjoy the sounds of live blues music played by t
 he one and only Wheatbread Johnson - Good vibes, great tunes, and stories 
 you&#039;ll be talking about long after the last note fades. 
URL:https://www.byronlibrary.org/event/crossroads-blues-society-presents-w
 heatbread-johnson-10357
END:VEVENT
END:VCALENDAR
