BEGIN:VCALENDAR
VERSION:2.0
PRODID:-//Library Market//iCal Export//EN
BEGIN:VEVENT
SUMMARY:Abstract Doormat Kit
UID:10358
DTSTAMP:20260423T033300Z
DTSTART:20250718T140000Z
DTEND:20250718T220000Z
LOCATION:Byron Public Library District, 100 S Washington St., Byron, IL 61
 010, United States
ROOM: Abstract Doormat Kit
DESCRIPTION:It&#039;s time to spruce up your entryway with this abstract d
 oormat craft kit! Everything that you need is included as well as step-by-
 step instructions and inspiration photos! No registration is required! Fir
 st come, first served. While supplies last.
URL:https://www.byronlibrary.org/event/abstract-doormat-kit-10358
END:VEVENT
END:VCALENDAR
