BEGIN:VCALENDAR
VERSION:2.0
PRODID:-//Library Market//iCal Export//EN
BEGIN:VEVENT
SUMMARY:Folded Book Page Vase Kit
UID:10359
DTSTAMP:20260423T033300Z
DTSTART:20250815T140000Z
DTEND:20250815T220000Z
LOCATION:Byron Public Library District, 100 S Washington St., Byron, IL 61
 010, United States
ROOM: Folded Book Page Vase Kit
DESCRIPTION:The kids won&#039;t be the only ones hitting the books this Au
 gust! Let&#039;s celebrate the back-to-school season with this book art cr
 aft! The instructions and photo tutorial in this kit will walk you through
  creating your book page vase. Florals and greenery are included for the f
 inishing touch!
URL:https://www.byronlibrary.org/event/folded-book-page-vase-kit-10359
END:VEVENT
END:VCALENDAR
