BEGIN:VCALENDAR
VERSION:2.0
PRODID:-//Library Market//iCal Export//EN
BEGIN:VEVENT
SUMMARY:Mixed Media Cards
UID:10361
DTSTAMP:20260423T033100Z
DTSTART:20250819T223000Z
DTEND:20250820T003000Z
LOCATION:Byron Public Library District, 100 S Washington St., Byron, IL 61
 010, United States
ROOM: Creative Studio
DESCRIPTION:The three cards you make in this mixed media card program will
  be unique to you! You will use a faux watercolor technique, stencils, and
  stamps to make beautiful cards that you design. 
URL:https://www.byronlibrary.org/event/mixed-media-cards-10361
END:VEVENT
END:VCALENDAR
