BEGIN:VCALENDAR
VERSION:2.0
PRODID:-//Library Market//iCal Export//EN
BEGIN:VEVENT
SUMMARY:June Program Registration Opens-7:00 AM
UID:10362
DTSTAMP:20260423T033200Z
DTSTART:20250515T050000Z
DTEND:20250515T050000Z
LOCATION:Byron Public Library District, 100 S Washington St., Byron, IL 61
 010, United States
ROOM: June Program Registration Opens-7:00 AM
DESCRIPTION:Registration for June programs opens today at 7:00 AM.Wonderin
 g about future programs? Program registration opens on the 15th at 7:00 AM
  on the month prior to the program. (July programs open June 15, August pr
 ograms open July 15, etc.)
URL:https://www.byronlibrary.org/event/june-programs-registration-opens-70
 0-am-10362
END:VEVENT
END:VCALENDAR
