BEGIN:VCALENDAR
VERSION:2.0
PRODID:-//Library Market//iCal Export//EN
BEGIN:VEVENT
SUMMARY:July Program Registration Opens-7:00 AM
UID:10363
DTSTAMP:20260423T033500Z
DTSTART:20250615T050000Z
DTEND:20250615T050000Z
LOCATION:Byron Public Library District, 100 S Washington St., Byron, IL 61
 010, United States
ROOM: July Program Registration Opens-7:00 AM
DESCRIPTION:Registration for July programs opens today at 7:00 AM.Wonderin
 g about future programs? Programs open on the 15th at 7:00 AM on the month
  prior to the program. (August programs open July 15, September programs o
 pen August 15th, etc.)Want monthly programs sent to your email? Sign up he
 re: https://libraryaware.com/2484/Subscribers/Subscribe?optInPageId=d3850f
 00-7ac6-41f0-ab59-86b8498cccbf
URL:https://www.byronlibrary.org/event/july-programs-registration-opens-70
 0-am-10363
END:VEVENT
END:VCALENDAR
