BEGIN:VCALENDAR
VERSION:2.0
PRODID:-//Library Market//iCal Export//EN
BEGIN:VEVENT
SUMMARY:Summer Citrus Centerpiece
UID:10386
DTSTAMP:20260423T033800Z
DTSTART:20250721T230000Z
DTEND:20250722T003000Z
LOCATION:Byron Public Library District, 100 S Washington St., Byron, IL 61
 010, United States
ROOM: Creative Studio
DESCRIPTION:Lemons are not just a staple in refreshing summer drinks and d
 ishes, but they also add a fun pop of color to any table setting. So why n
 ot take things up a notch and use them as the star of your next centerpiec
 e? Join us for an evening at the library where you&#039;ll get to create a
  fun creative centerpiece using lemons as your main focal point.
URL:https://www.byronlibrary.org/event/diy-summer-lemon-centerpiece-10386
END:VEVENT
END:VCALENDAR
