BEGIN:VCALENDAR
VERSION:2.0
PRODID:-//Library Market//iCal Export//EN
BEGIN:VEVENT
SUMMARY:That&#039;s A Wrap!
UID:11718
DTSTAMP:20260423T033100Z
DTSTART:20250702T230000Z
DTEND:20250703T000000Z
LOCATION:Byron Public Library District, 100 S Washington St., Byron, IL 61
 010, United States
ROOM: Meeting Room
DESCRIPTION:Looking for quick, affordable and delicious meal ideas? Join u
 s at the library for That&#039;s A Wrap! We&#039;ll explore creative ways 
 to make wraps for breakfast, lunch and dessert. From sweet to savory, you&
 #039;ll learn how to build simple, satisfying meals with ingredients you l
 ikely already have at home. Perfect for busy people of all ages!
URL:https://www.byronlibrary.org/event/thats-wrap-11718
END:VEVENT
END:VCALENDAR
