BEGIN:VCALENDAR
VERSION:2.0
PRODID:-//Library Market//iCal Export//EN
BEGIN:VEVENT
SUMMARY:Sewing - Wrist Pin Cushion
UID:11719
DTSTAMP:20260423T033400Z
DTSTART:20250711T150000Z
DTEND:20250711T163000Z
LOCATION:Byron Public Library District, 100 S Washington St., Byron, IL 61
 010, United States
ROOM: Classroom 2
DESCRIPTION:Always searching for your ins when sewing? No longer. Sign-up 
 to make this practical wrist pin cushion. All materials supplied. Regardle
 ss of sewing experience, enrollment in this class requires successful comp
 letion of the Beginner Sewing Class at Byron Public Library.
URL:https://www.byronlibrary.org/event/sewing-wrist-pin-cushion-11719
END:VEVENT
END:VCALENDAR
