BEGIN:VCALENDAR
VERSION:2.0
PRODID:-//Library Market//iCal Export//EN
BEGIN:VEVENT
SUMMARY:Sewing - Wrist Pin Cushion
UID:11720
DTSTAMP:20260423T033200Z
DTSTART:20250723T223000Z
DTEND:20250724T000000Z
LOCATION:Byron Public Library District, 100 S Washington St., Byron, IL 61
 010, United States
ROOM: Classroom 2
DESCRIPTION:Always searching for your pins when sewing? No longer. Sign-up
  to make this practical wrist pin cushion. All materials supplied. Regardl
 ess of sewing experience, enrollment in this class requires successful com
 pletion of the Beginner Sewing Class at Byron Public Library. 
URL:https://www.byronlibrary.org/event/sewing-wrist-pin-cushion-11720
END:VEVENT
END:VCALENDAR
