BEGIN:VCALENDAR
VERSION:2.0
PRODID:-//Library Market//iCal Export//EN
BEGIN:VEVENT
SUMMARY:Accused: A Salem Witch Faces Her Fate
UID:11792
DTSTAMP:20260423T015900Z
DTSTART:20251002T230000Z
DTEND:20251003T003000Z
LOCATION:Byron Public Library District, 100 S Washington St., Byron, IL 61
 010, United States
ROOM: Meeting Room
DESCRIPTION:Step back into the year 1692, where fear, superstition, and ma
 ss hysteria gripped the Puritan town of Salem. In this chilling portrayal,
  historical presenter Michelle Gibbons will embody the voice of one of the
  countless women accused of witchcraft during the infamous Salem Witch Tri
 als. Hear firsthand what it was like to live under suspicion, accused of d
 ark, unthinkable crimes for which the only evidence was rumor, fear, and p
 rejudice. 
URL:https://www.byronlibrary.org/event/salem-witch-portrayal-presented-mic
 helle-gibbons-11792
END:VEVENT
END:VCALENDAR
