BEGIN:VCALENDAR
VERSION:2.0
PRODID:-//Library Market//iCal Export//EN
BEGIN:VEVENT
SUMMARY:Summer Teen Time
UID:11815
DTSTAMP:20260423T033600Z
DTSTART:20250724T190000Z
DTEND:20250724T210000Z
LOCATION:Byron Public Library District, 100 S Washington St., Byron, IL 61
 010, United States
ROOM: Teen Department &amp; Creative Studio
DESCRIPTION:Join our summer Teen Time in our teen department! Come hang ou
 t with friends, make crafts and play video games in a space that was creat
 ed just for YOU! Come anytime between 2-4 pm- no registration required. 
URL:https://www.byronlibrary.org/event/summer-teen-time-11815
END:VEVENT
END:VCALENDAR
