BEGIN:VCALENDAR
VERSION:2.0
PRODID:-//Library Market//iCal Export//EN
BEGIN:VEVENT
SUMMARY:Teen Outdoor Extravaganza
UID:11909
DTSTAMP:20260423T033200Z
DTSTART:20250718T190000Z
DTEND:20250718T210000Z
LOCATION:Blackhawk Meadow Park, 2920 E. Mill Rd, Byron, IL 61010, United S
 tates
ROOM: Blackhawk Meadow Park
DESCRIPTION:Meet at the Blackhawk Meadow Park (2920 E Mill Rd) in Byron fo
 r an outdoor extravaganza! There will be giant Jenga, games of bags, Nerf 
 guns and water balloons for some serious outside fun! Snacks will be provi
 ded.*Raindate is Friday, July 18th, same time*
URL:https://www.byronlibrary.org/event/teen-outdoor-extravaganza-11909
END:VEVENT
END:VCALENDAR
