BEGIN:VCALENDAR
VERSION:2.0
PRODID:-//Library Market//iCal Export//EN
BEGIN:VEVENT
SUMMARY:Teen Movie &amp; Pizza
UID:11914
DTSTAMP:20260423T033100Z
DTSTART:20250724T170000Z
DTEND:20250724T190000Z
LOCATION:Byron Public Library District, 100 S Washington St., Byron, IL 61
 010, United States
ROOM: Teen Department
DESCRIPTION:Join us for a movie &amp; pizza! We will have a variety of sup
 erhero movies you can pick from, and whichever movie gets the most votes, 
 will be the one we watch together! 
URL:https://www.byronlibrary.org/event/teen-movie-pizza-11914
END:VEVENT
END:VCALENDAR
