BEGIN:VCALENDAR
VERSION:2.0
PRODID:-//Library Market//iCal Export//EN
BEGIN:VEVENT
SUMMARY:RRVBC Winter Blood Drive
UID:11922
DTSTAMP:20260422T210900Z
DTSTART:20260108T190000Z
DTEND:20260109T000000Z
LOCATION:Byron Public Library District, 100 S Washington St., Byron, IL 61
 010, United States
ROOM: Meeting Room
DESCRIPTION:Join the Byron Public Library as we host a community blood dri
 ve in partnership with Rock River Valley Blood Center. If you&#039;d like
  to sign-up to donate please call the library directly or you may scan the
  QR Code.  
URL:https://www.byronlibrary.org/event/winter-blood-drive-11922
END:VEVENT
END:VCALENDAR
