BEGIN:VCALENDAR
VERSION:2.0
PRODID:-//Library Market//iCal Export//EN
BEGIN:VEVENT
SUMMARY:DIY Plant Propagation Holder
UID:11923
DTSTAMP:20260423T033400Z
DTSTART:20250814T230000Z
DTEND:20250815T000000Z
LOCATION:Byron Public Library District, 100 S Washington St., Byron, IL 61
 010, United States
ROOM: Creative Studio
DESCRIPTION:Add a touch of woodland elegance to your home by crafting a pl
 ant propagation holder from a rustic wood slice. All supplies will be prov
 ided. 
URL:https://www.byronlibrary.org/event/diy-plant-propagation-holder-11923
END:VEVENT
END:VCALENDAR
