BEGIN:VCALENDAR
VERSION:2.0
PRODID:-//Library Market//iCal Export//EN
BEGIN:VEVENT
SUMMARY:Pressed Flower Ornaments
UID:11926
DTSTAMP:20260423T033600Z
DTSTART:20250825T230000Z
DTEND:20250826T003000Z
LOCATION:Byron Public Library District, 100 S Washington St., Byron, IL 61
 010, United States
ROOM: Creative Studio
DESCRIPTION:Pressed flower ornaments with bright colors are so beautiful! 
 These could be fantastic gifts or just hang them from your own cabinet han
 dles for a nice added touch. All supplies will be provided. 
URL:https://www.byronlibrary.org/event/pressed-flower-ornaments-11926
END:VEVENT
END:VCALENDAR
