BEGIN:VCALENDAR
VERSION:2.0
PRODID:-//Library Market//iCal Export//EN
BEGIN:VEVENT
SUMMARY:Fall Gnome Door Accent
UID:11927
DTSTAMP:20260423T033500Z
DTSTART:20250908T230000Z
DTEND:20250909T003000Z
LOCATION:Byron Public Library District, 100 S Washington St., Byron, IL 61
 010, United States
ROOM: Creative Studio
DESCRIPTION:Join us for an evening at the library as you create this adora
 ble door accent that is perfect for fall! All supplies will be provided. 
URL:https://www.byronlibrary.org/event/fall-gnome-door-decoration-11927
END:VEVENT
END:VCALENDAR
