BEGIN:VCALENDAR
VERSION:2.0
PRODID:-//Library Market//iCal Export//EN
BEGIN:VEVENT
SUMMARY:Wood Decor w/Vinyl Layering Demonstration
UID:11928
DTSTAMP:20260423T015900Z
DTSTART:20250929T230000Z
DTEND:20250930T003000Z
LOCATION:Byron Public Library District, 100 S Washington St., Byron, IL 61
 010, United States
ROOM: Creative Studio
DESCRIPTION:Join Cathy as she walks you through the process of layering vi
 nyl to create a spooky mummy cutting board just in time for the Halloween 
 season. 
URL:https://www.byronlibrary.org/event/wood-decor-wvinyl-layering-demonstr
 ation-11928
END:VEVENT
END:VCALENDAR
