BEGIN:VCALENDAR
VERSION:2.0
PRODID:-//Library Market//iCal Export//EN
BEGIN:VEVENT
SUMMARY:Monster Mayhem Storytime
UID:11951
DTSTAMP:20260423T001900Z
DTSTART:20251028T230000Z
DTEND:20251028T234500Z
LOCATION:Byron Public Library District, 100 S Washington St., Byron, IL 61
 010, United States
ROOM: Meeting Room
DESCRIPTION:Join us for a monster themed crafts &amp; activities in the yo
 uth department. These monsters are friendly! Activities designed for youth
  ages 3 years-5th grade but older and younger siblings are welcome to atte
 nd. Register children only. Youth should be accompanied by a caregiver.
URL:https://www.byronlibrary.org/event/monster-madness-storytime-11951
END:VEVENT
END:VCALENDAR
