BEGIN:VCALENDAR
VERSION:2.0
PRODID:-//Library Market//iCal Export//EN
BEGIN:VEVENT
SUMMARY:Holly Jolly Family Night
UID:11953
DTSTAMP:20260423T001900Z
DTSTART:20251210T000000Z
DTEND:20251210T004500Z
LOCATION:Byron Public Library District, 100 S Washington St., Byron, IL 61
 010, United States
ROOM: Meeting Room
DESCRIPTION:Join us for Christmas themed activities in the youth services 
 department: create an ornament, make reindeer food, explore sensory bins a
 nd more! Register children only.
URL:https://www.byronlibrary.org/event/christmas-crafts-11953
END:VEVENT
END:VCALENDAR
