BEGIN:VCALENDAR
VERSION:2.0
PRODID:-//Library Market//iCal Export//EN
BEGIN:VEVENT
SUMMARY:&quot;The Cow Loves Cookies&quot; StoryWalk®-Heritage Farm
UID:11954
DTSTAMP:20260423T033200Z
DTSTART:20250531T050000Z
DTEND:20250627T050000Z
LOCATION:Heritage Farm Museum, 8059 N. River Road, Byron, IL 61010, United
  States
ROOM: Byron Forest Preserve: Heritage Farm
DESCRIPTION:Current book: &quot;The Cow Loves Cookies&quot; by Karma Wilso
 n. While all the other animals on the farm enjoy eating their regular food
 , the cow chooses to eat the one thing that she loves best.
URL:https://www.byronlibrary.org/event/cow-loves-cookies-storywalkr-herita
 ge-farm-11954
END:VEVENT
END:VCALENDAR
