BEGIN:VCALENDAR
VERSION:2.0
PRODID:-//Library Market//iCal Export//EN
BEGIN:VEVENT
SUMMARY:&quot;Lucky Duck&quot; StoryWalk®-Jarrett Prairie Center
UID:11955
DTSTAMP:20260423T033500Z
DTSTART:20250531T050000Z
DTEND:20250630T050000Z
LOCATION:Byron Forest Preserve Jarrett Prairie Center, 7993 North River Ro
 ad, Byron, IL 61010, United States
ROOM: Byron Forest Preserve: Indigo Trail StoryWalk
DESCRIPTION:Current book: &quot;Lucky Duck&quot; by Greg Pizzoli. Susan th
 e duck has the worst luck. Her rollerskates are two sizes too big. She&#03
 9;s lost her favorite marble. And she&#039;s run out of pickles. But with 
 each unfortunate discovery, Wolf shows up with a gift she&#039;s won. Her 
 luck has turned around . . . hasn&#039;t it? Come see just how lucky Susan
  is, in this slyly funny story about finding luck when you least expect it
 .
URL:https://www.byronlibrary.org/event/lucky-duck-storywalkr-jarrett-prair
 ie-center-11955
END:VEVENT
END:VCALENDAR
