BEGIN:VCALENDAR
VERSION:2.0
PRODID:-//Library Market//iCal Export//EN
BEGIN:VEVENT
SUMMARY:Passport Fair
UID:12016
DTSTAMP:20260423T033600Z
DTSTART:20250913T150000Z
DTEND:20250913T200000Z
LOCATION:Byron Public Library District, 100 S Washington St., Byron, IL 61
 010, United States
ROOM: Meeting Room
DESCRIPTION:In partnership with the Oregon Public Library, we are hosting 
 a Passport Fair on Saturday, September 13th. You can come in anytime betwe
 en 10 am- 3 pm. No registration is necessary.Please see the Oregon Public 
 Library website for more information about the paperwork needed and fees: 
 https://oregonpubliclibrary.com/services/passports/
URL:https://www.byronlibrary.org/event/tentative-date-passport-fair-12016
END:VEVENT
END:VCALENDAR
